BEGIN:VCALENDAR
VERSION:2.0
PRODID:-//Albuquerque Alumnae Chapter of DST - ECPv6.5.1.5//NONSGML v1.0//EN
CALSCALE:GREGORIAN
METHOD:PUBLISH
X-ORIGINAL-URL:https://www.abqdeltas.org
X-WR-CALDESC:Events for Albuquerque Alumnae Chapter of DST
REFRESH-INTERVAL;VALUE=DURATION:PT1H
X-Robots-Tag:noindex
X-PUBLISHED-TTL:PT1H
BEGIN:VTIMEZONE
TZID:America/Denver
BEGIN:DAYLIGHT
TZOFFSETFROM:-0700
TZOFFSETTO:-0600
TZNAME:MDT
DTSTART:20180311T090000
END:DAYLIGHT
BEGIN:STANDARD
TZOFFSETFROM:-0600
TZOFFSETTO:-0700
TZNAME:MST
DTSTART:20181104T080000
END:STANDARD
BEGIN:DAYLIGHT
TZOFFSETFROM:-0700
TZOFFSETTO:-0600
TZNAME:MDT
DTSTART:20190310T090000
END:DAYLIGHT
BEGIN:STANDARD
TZOFFSETFROM:-0600
TZOFFSETTO:-0700
TZNAME:MST
DTSTART:20191103T080000
END:STANDARD
BEGIN:DAYLIGHT
TZOFFSETFROM:-0700
TZOFFSETTO:-0600
TZNAME:MDT
DTSTART:20200308T090000
END:DAYLIGHT
BEGIN:STANDARD
TZOFFSETFROM:-0600
TZOFFSETTO:-0700
TZNAME:MST
DTSTART:20201101T080000
END:STANDARD
BEGIN:DAYLIGHT
TZOFFSETFROM:-0700
TZOFFSETTO:-0600
TZNAME:MDT
DTSTART:20210314T090000
END:DAYLIGHT
BEGIN:STANDARD
TZOFFSETFROM:-0600
TZOFFSETTO:-0700
TZNAME:MST
DTSTART:20211107T080000
END:STANDARD
BEGIN:DAYLIGHT
TZOFFSETFROM:-0700
TZOFFSETTO:-0600
TZNAME:MDT
DTSTART:20220313T090000
END:DAYLIGHT
BEGIN:STANDARD
TZOFFSETFROM:-0600
TZOFFSETTO:-0700
TZNAME:MST
DTSTART:20221106T080000
END:STANDARD
BEGIN:DAYLIGHT
TZOFFSETFROM:-0700
TZOFFSETTO:-0600
TZNAME:MDT
DTSTART:20230312T090000
END:DAYLIGHT
BEGIN:STANDARD
TZOFFSETFROM:-0600
TZOFFSETTO:-0700
TZNAME:MST
DTSTART:20231105T080000
END:STANDARD
BEGIN:DAYLIGHT
TZOFFSETFROM:-0700
TZOFFSETTO:-0600
TZNAME:MDT
DTSTART:20240310T090000
END:DAYLIGHT
BEGIN:STANDARD
TZOFFSETFROM:-0600
TZOFFSETTO:-0700
TZNAME:MST
DTSTART:20241103T080000
END:STANDARD
BEGIN:DAYLIGHT
TZOFFSETFROM:-0700
TZOFFSETTO:-0600
TZNAME:MDT
DTSTART:20250309T090000
END:DAYLIGHT
BEGIN:STANDARD
TZOFFSETFROM:-0600
TZOFFSETTO:-0700
TZNAME:MST
DTSTART:20251102T080000
END:STANDARD
END:VTIMEZONE
BEGIN:VEVENT
DTSTART;TZID=America/Denver:20250506T190000
DTEND;TZID=America/Denver:20250506T201500
DTSTAMP:20260425T152935
CREATED:20250428T231510Z
LAST-MODIFIED:20250428T231511Z
UID:4887-1746558000-1746562500@www.abqdeltas.org
SUMMARY:New Mexico Legislative Wrap-Up
DESCRIPTION:
URL:https://www.abqdeltas.org/eventcalendar/new-mexico-legislative-wrap-up/
LOCATION:Zoom
CATEGORIES:Albuquerque Alumnae,Delta Sigma Theta Sorority, Inc.,Political Awareness & Involvement,Public,Southwest Region
END:VEVENT
BEGIN:VEVENT
DTSTART;TZID=America/Denver:20240323T100000
DTEND;TZID=America/Denver:20240323T113000
DTSTAMP:20260425T152935
CREATED:20240118T052752Z
LAST-MODIFIED:20240214T045653Z
UID:4753-1711188000-1711193400@www.abqdeltas.org
SUMMARY:Part 2: Death\, Are you Ready for the Afterlife?
DESCRIPTION:Click Link Below to Register
URL:https://www.abqdeltas.org/eventcalendar/part-2-death-are-you-ready-for-the-afterlife/
LOCATION:United Way of North Central NM\, 2350 Alamo Ave. SE\, Albuquerque\, NM\, 87106
CATEGORIES:Albuquerque Alumnae,Economic Development,Physical & Mental Health,Public,Southwest Region
END:VEVENT
BEGIN:VEVENT
DTSTART;TZID=America/Denver:20240217T100000
DTEND;TZID=America/Denver:20240217T110000
DTSTAMP:20260425T152935
CREATED:20240118T052527Z
LAST-MODIFIED:20240216T141859Z
UID:4748-1708164000-1708167600@www.abqdeltas.org
SUMMARY:Part 1 Life: Credit Building & Home Ownership
DESCRIPTION:Click Link Below to Register.
URL:https://www.abqdeltas.org/eventcalendar/part-1-life-credit-building-home-ownership/
LOCATION:United Way of North Central NM\, 2350 Alamo Ave. SE\, Albuquerque\, NM\, 87106
CATEGORIES:Albuquerque Alumnae,Delta Sigma Theta Sorority, Inc.,Economic Development,Public
END:VEVENT
BEGIN:VEVENT
DTSTART;TZID=America/Denver:20230518T181300
DTEND;TZID=America/Denver:20230518T191300
DTSTAMP:20260425T152935
CREATED:20230503T042243Z
LAST-MODIFIED:20230503T042952Z
UID:4708-1684433580-1684437180@www.abqdeltas.org
SUMMARY:Melanated Mentors
DESCRIPTION:It’s time to let the real talk flow. Join the devastating divas of the Albuquerque Alumnae chapter of Delta Sigma Theya Sorority Inc. and a powerhouse panel for “Melanated Mentors!”  An event to create a safe space for women of color in a hegemonic workplace to discuss the experiences\, social connection and intersection of identity while navigating work-life integration.\n\n\n \n\nMay 18\, 2023\n6:13pm\nAfrican American Performing Arts Center\nFree with door prizes given\n\n* Please RSVP ON Eventbrite * However\, not required for attendance 
URL:https://www.abqdeltas.org/eventcalendar/melanated-mentors/
LOCATION:African-American Performing Arts Center\, 310 San Pedro Dr NE\, Albuquerque\, NM\, 87108\, United States
CATEGORIES:Albuquerque Alumnae,Delta Sigma Theta Sorority, Inc.,Physical & Mental Health,Public,Southwest Region
END:VEVENT
BEGIN:VEVENT
DTSTART;TZID=America/Denver:20200425T094500
DTEND;TZID=America/Denver:20200425T110000
DTSTAMP:20260425T152935
CREATED:20190930T102800Z
LAST-MODIFIED:20190930T043136Z
UID:4026-1587807900-1587812400@www.abqdeltas.org
SUMMARY:Highway Clean-up
DESCRIPTION:The women of Delta Sigma Theta look forward to seeing you on Saturday\, 4/25/2020\, as we clean up our portion of the highway. The New Mexico Department of Transportation is very appreciative. We will meet at 9:45 AM at the Equestrian Park. Then we will split into groups and begin the cleanup. \nPark at the Equestrian Park: \nFrom Tramway and Paseo Del Norte — Go West on Paseo Del Norte\, pass Lowell. The next street is Browning. Turn left on Browning. Turn left on the Frontage Road. Go .3 miles and turn right (by the fire station) and go to the end of the street which is the Equestrian Park\, park. \nFrom Wyoming and Paseo Del Norte — Go East on Paseo Del Norte\, pass Eubank. Turn right on Browning. Turn left on the Frontage Road. Go .3 miles and turn right (by the fire station) and go to the end of the street which is the Equestrian Park\,  park. \nDO NOT LEAVE VALUABLES IN YOUR CAR. \nPlease bring gloves\, water\, wear comfortable clothing\, and closed-toe shoes. Dress in layers in case it is chilly. Family and friends are welcomed.  Children must be over the age of 14.  Trash Bags and Safety Vests will be provided. A few trash grabbers will also be available. \nThe cleanup will be rescheduled in the event of in-climate weather or unforeseen circumstances. \nThank You\,\nThe Community Service Committee
URL:https://www.abqdeltas.org/eventcalendar/highway-clean-up-3/
LOCATION:Near Equestrian Park\, 11600 Paseo Del Norte NE\, Albuquerque\, New Mexico\, 87122
CATEGORIES:Albuquerque Alumnae,Community Service,Public
ATTACH;FMTTYPE=image/gif:https://www.abqdeltas.org/wp-content/uploads/2018/09/adopt-a-highway-logo.gif
END:VEVENT
BEGIN:VEVENT
DTSTART;TZID=America/Denver:20190928T094500
DTEND;TZID=America/Denver:20190928T110000
DTSTAMP:20260425T152935
CREATED:20190914T153625Z
LAST-MODIFIED:20190914T093924Z
UID:3963-1569663900-1569668400@www.abqdeltas.org
SUMMARY:Highway Clean-up
DESCRIPTION:The women of Delta Sigma Theta look forward to seeing you on Saturday\, 9/28/2019\, as we clean up our portion of the highway. The New Mexico Department of Transportation is very appreciative. We will meet at 9:45 AM at the Equestrian Park. Then we will split into groups and begin the cleanup. \nPark at the Equestrian Park: \nFrom Tramway and Paseo Del Norte — Go West on Paseo Del Norte\, pass Lowell. The next street is Browning. Turn left on Browning. Turn left on the Frontage Road. Go .3 miles and turn right (by the fire station) and go to the end of the street which is the Equestrian Park\, park. \nFrom Wyoming and Paseo Del Norte — Go East on Paseo Del Norte\, pass Eubank. Turn right on Browning. Turn left on the Frontage Road. Go .3 miles and turn right (by the fire station) and go to the end of the street which is the Equestrian Park\,  park. \nDO NOT LEAVE VALUABLES IN YOUR CAR. \nPlease bring gloves\, water\, wear comfortable clothing\, and closed-toe shoes. Dress in layers in case it is chilly. Family and friends are welcomed.  Children must be over the age of 14.  Trash Bags and Safety Vests will be provided. A few trash grabbers will also be available. \nThe cleanup will be rescheduled in the event of in-climate weather or unforeseen circumstances. \nThank You\,\nThe Community Service Committee
URL:https://www.abqdeltas.org/eventcalendar/highway-clean-up-2/
LOCATION:Near Equestrian Park\, 11600 Paseo Del Norte NE\, Albuquerque\, New Mexico\, 87122
CATEGORIES:Albuquerque Alumnae,Community Service,Public
ATTACH;FMTTYPE=image/gif:https://www.abqdeltas.org/wp-content/uploads/2018/09/adopt-a-highway-logo.gif
END:VEVENT
BEGIN:VEVENT
DTSTART;TZID=America/Denver:20190921T070000
DTEND;TZID=America/Denver:20190921T140000
DTSTAMP:20260425T152935
CREATED:20190914T152052Z
LAST-MODIFIED:20190914T092831Z
UID:3958-1569049200-1569074400@www.abqdeltas.org
SUMMARY:St. Jude Walk/Run to End Childhood Cancer
DESCRIPTION:In September\, supporters from across the nation come together for the St. Jude Walk/Run to End Childhood Cancer during Childhood Cancer Awareness Month to raise money for the kids of St. Jude\, where families never receive a bill for anything. \nJoin us for the St. Jude Walk/Run to End Childhood Cancer in Albuquerque\, New Mexico ∣ Sept. 21 @ Manzano Mesa Park. \nManzano Mesa Park\n501 Elizabeth St SE\nAlbuquerque\, NM 87123 \n7:00 am Registration Opens\n8:15 am Fun Run/Walk Start\n8:45-10 am Celebration Village\n11 am-2 pm After Party at Main Event \nWalk – $10 Ages 6 and up\nFun Run – $10 Ages 6 and up\nages 5 and under are free
URL:https://www.abqdeltas.org/eventcalendar/st-jude-walk-run-to-end-childhood-cancer-2/
LOCATION:Manzano Mesa Park\, 501 Elizabeth St SE\, Albuquerque\, NM\, 87123
CATEGORIES:Community Service,Physical & Mental Health,Public
ATTACH;FMTTYPE=image/png:https://www.abqdeltas.org/wp-content/uploads/2019/09/Screen-Shot-2019-09-14-at-3.27.15-AM.png
END:VEVENT
BEGIN:VEVENT
DTSTART;TZID=America/Denver:20190427T094500
DTEND;TZID=America/Denver:20190427T110000
DTSTAMP:20260425T152935
CREATED:20181227T054330Z
LAST-MODIFIED:20190407T232131Z
UID:3745-1556358300-1556362800@www.abqdeltas.org
SUMMARY:Highway Clean-up
DESCRIPTION:The women of Delta Sigma Theta look forward to seeing you on Saturday\, 4/27/2019\, as we clean up our portion of the highway. The New Mexico Department of Transportation is very appreciative. We will meet at 9:45 AM at the Equestrian Park. Then we will split into groups and begin the cleanup. \nPark at the Equestrian Park: \nFrom Tramway and Paseo Del Norte — Go West on Paseo Del Norte\, pass Lowell. The next street is Browning. Turn left on Browning. Turn left on the Frontage Road. Go .3 miles and turn right (by the fire station) and go to the end of the street which is the Equestrian Park\, park. \nFrom Wyoming and Paseo Del Norte — Go East on Paseo Del Norte\, pass Eubank. Turn right on Browning. Turn left on the Frontage Road. Go .3 miles and turn right (by the fire station) and go to the end of the street which is the Equestrian Park\,  park. \nDO NOT LEAVE VALUABLES IN YOUR CAR. \nPlease bring gloves\, water\, wear comfortable clothing\, and closed-toe shoes. Dress in layers in case it is chilly. Family and friends are welcomed.  Children must be over the age of 14.  Trash Bags and Safety Vests will be provided. A few trash grabbers will also be available. \nThe cleanup will be rescheduled in the event of in-climate weather or unforeseen circumstances. \nThank You\,\nThe Community Service Committee
URL:https://www.abqdeltas.org/eventcalendar/highway-clean-up/
LOCATION:Near Equestrian Park\, 11600 Paseo Del Norte NE\, Albuquerque\, New Mexico\, 87122
CATEGORIES:Albuquerque Alumnae,Community Service,Public
ATTACH;FMTTYPE=image/gif:https://www.abqdeltas.org/wp-content/uploads/2018/09/adopt-a-highway-logo.gif
END:VEVENT
BEGIN:VEVENT
DTSTART;TZID=America/Denver:20190417T193000
DTEND;TZID=America/Denver:20190417T230000
DTSTAMP:20260425T152935
CREATED:20181227T050932Z
LAST-MODIFIED:20181227T170817Z
UID:3739-1555529400-1555542000@www.abqdeltas.org
SUMMARY:Dance Theatre of Harlem & Red Carpet Reception
DESCRIPTION:Red Carpet Reception to follow the performance. \nDance Theatre of Harlem presents a powerful vision for ballet in the 21st Century. An unparalleled presence in the dance world\, the 16-member\, multi-ethnic company performs a forward-thinking repertoire including treasured classics\, neoclassical works by George Balanchine and resident choreographer Robert Garland\, as well as innovative contemporary works that use the language of ballet to celebrate African-American culture. Through performances\, community engagement\, and arts education\, the dancers carry forward Dance Theatre of Harlem’s message of empowerment through the arts for all.
URL:https://www.abqdeltas.org/eventcalendar/dance-theatre-of-harlem-red-carpet-reception/
LOCATION:Popejoy Hall\, 203 Cornell Dr\, Albuquerque\, New Mexico\, 87131
CATEGORIES:Albuquerque Alumnae,Arts & Letters,Public
ATTACH;FMTTYPE=image/png:https://www.abqdeltas.org/wp-content/uploads/2018/12/dance_theatre_of_harmlen.png
END:VEVENT
BEGIN:VEVENT
DTSTART;TZID=America/Denver:20190302T200000
DTEND;TZID=America/Denver:20190302T235900
DTSTAMP:20260425T152935
CREATED:20181227T044351Z
LAST-MODIFIED:20181227T070318Z
UID:3731-1551556800-1551571140@www.abqdeltas.org
SUMMARY:Cotton Club Scholarship Gala
DESCRIPTION:2019 Cotton Club Scholarship Tickets Are Now On Sale!\nMarch 2\, 2019 – Doors open at 7:30 pm | 8pm to 12midnight \nAlbuquerque Marriott — Grand Ballroom \nTo purchase your ticket\, visit nmblackhistorymonth.com/cottonclubtickets. \nThe 8th Annual Cotton Club Scholarship Gala will be honoring women in higher learning. We have selected five local extraordinary female professors who are doing great work in\, and for the Albuquerque community. Join us as we shower these women with the appreciation and the RESPECT they deserve.
URL:https://www.abqdeltas.org/eventcalendar/2019-cotton-club-scholarship-gala-respect/
LOCATION:Albuquerque Marriott\, 2101 Louisiana Blvd NE\, Albuquerque\, NM\, 87110\, United States
CATEGORIES:Albuquerque Alumnae,Arts & Letters,Public
ATTACH;FMTTYPE=image/png:https://www.abqdeltas.org/wp-content/uploads/2018/12/2019-CCSG-banner.png
END:VEVENT
BEGIN:VEVENT
DTSTART;TZID=America/Denver:20190302T130000
DTEND;TZID=America/Denver:20190302T130000
DTSTAMP:20260425T152935
CREATED:20181227T045847Z
LAST-MODIFIED:20181227T045847Z
UID:3735-1551531600-1551531600@www.abqdeltas.org
SUMMARY:Feeding The Homeless
DESCRIPTION:The Albuquerque Alumnae Chapter\, along with Word of Life Restoration Church\, will feed the homeless at St. Martin’s Hope Works Shelter.
URL:https://www.abqdeltas.org/eventcalendar/feeding-the-homeless/
LOCATION:St. Martin’s Hope Works Shelter\, 1201 3rd St NW\, Albuquerque\, NM\, 87102\, United States
CATEGORIES:Albuquerque Alumnae,Community Service,Public
ATTACH;FMTTYPE=image/png:https://www.abqdeltas.org/wp-content/uploads/2018/12/hopeworks_logo.png
END:VEVENT
BEGIN:VEVENT
DTSTART;TZID=America/Denver:20190219T193000
DTEND;TZID=America/Denver:20190219T213000
DTSTAMP:20260425T152935
CREATED:20181205T064113Z
LAST-MODIFIED:20181205T064146Z
UID:3695-1550604600-1550611800@www.abqdeltas.org
SUMMARY:Ailey II is at Popejoy Hall
DESCRIPTION:The talented dancers of Ailey II are renowned for captivating audiences and translating their strength and agility into powerful performances. Under the artistic direction of Troy Powell\, this critically-acclaimed company presents vibrant performances and innovative community programs across the country and internationally. The Ailey spirit shines as these artists perform an exhilarating and diverse repertory that includes Alvin Ailey’s timeless classics and thrilling new works by today’s outstanding emerging choreographers.
URL:https://www.abqdeltas.org/eventcalendar/ailey-ii-is-at-popejoy-hall/
LOCATION:Popejoy Hall\, 203 Cornell Dr\, Albuquerque\, New Mexico\, 87131
CATEGORIES:Arts & Letters,Public
ATTACH;FMTTYPE=image/png:https://www.abqdeltas.org/wp-content/uploads/2018/12/aileyii.png
END:VEVENT
BEGIN:VEVENT
DTSTART;TZID=America/Denver:20190121T184000
DTEND;TZID=America/Denver:20190121T210000
DTSTAMP:20260425T152935
CREATED:20190117T224053Z
LAST-MODIFIED:20190117T225331Z
UID:3838-1548096000-1548104400@www.abqdeltas.org
SUMMARY:Delta Red Carpet Movie for "If Beale Street Could Talk"
DESCRIPTION:
URL:https://www.abqdeltas.org/eventcalendar/delta-red-carpet-movie-for-if-beale-street-could-talk/
LOCATION:Century Rio 24\, 4901 Pan American Fwy NE\, Albuquerque\, NM\, 87109\, United States
CATEGORIES:Albuquerque Alumnae,Arts & Letters,Public
ATTACH;FMTTYPE=image/png:https://www.abqdeltas.org/wp-content/uploads/2019/01/ifbealestreetcantalk.png
END:VEVENT
BEGIN:VEVENT
DTSTART;TZID=America/Denver:20180930T150000
DTEND;TZID=America/Denver:20180930T163000
DTSTAMP:20260425T152935
CREATED:20180929T034029Z
LAST-MODIFIED:20180930T075443Z
UID:3368-1538319600-1538325000@www.abqdeltas.org
SUMMARY:Delta GEMS Open House
DESCRIPTION:💎Growing & Empowering Myself Successfully💎 \nCome and learn about how we help young ladies with mentoring\, career goals\, learning more about community service and more with our Delta GEMS Program. \nThe GEMS program is open to young ladies ages 14-18 and in grades 9-12. The target audience is African-Americans\, but ALL are welcome! Join us to find out more.
URL:https://www.abqdeltas.org/eventcalendar/delta-gems-open-house/
LOCATION:Central and Unser Library\, 8081 Central Ave NW\, Albuquerque\, NM\, 87121
CATEGORIES:Educational Development,Public
END:VEVENT
BEGIN:VEVENT
DTSTART;TZID=America/Denver:20180922T080000
DTEND;TZID=America/Denver:20180922T080000
DTSTAMP:20260425T152935
CREATED:20180917T015117Z
LAST-MODIFIED:20180917T024011Z
UID:3115-1537603200-1537603200@www.abqdeltas.org
SUMMARY:St. Jude Walk/Run to End Childhood Cancer
DESCRIPTION:In September\, supporters from across the nation come together for the St. Jude Walk/Run to End Childhood Cancer during Childhood Cancer Awareness Month to raise money for the kids of St. Jude\, where families never receive a bill for anything. \nJoin us for the St. Jude Walk/Run to End Childhood Cancer in\nAlbuquerque\, New Mexico ∣ Sept. 22 @ Manzano Mesa Park.
URL:https://www.abqdeltas.org/eventcalendar/st-jude-walk-run-to-end-childhood-cancer/
LOCATION:Manzano Mesa Park\, 501 Elizabeth St SE\, Albuquerque\, NM\, 87123
CATEGORIES:Community Service,Physical & Mental Health,Public
ATTACH;FMTTYPE=image/png:https://www.abqdeltas.org/wp-content/uploads/2018/09/stjude2018.png
END:VEVENT
END:VCALENDAR