BEGIN:VCALENDAR
VERSION:2.0
PRODID:-//Albuquerque Alumnae Chapter of DST - ECPv6.5.1.5//NONSGML v1.0//EN
CALSCALE:GREGORIAN
METHOD:PUBLISH
X-ORIGINAL-URL:https://www.abqdeltas.org
X-WR-CALDESC:Events for Albuquerque Alumnae Chapter of DST
REFRESH-INTERVAL;VALUE=DURATION:PT1H
X-Robots-Tag:noindex
X-PUBLISHED-TTL:PT1H
BEGIN:VTIMEZONE
TZID:America/Denver
BEGIN:DAYLIGHT
TZOFFSETFROM:-0700
TZOFFSETTO:-0600
TZNAME:MDT
DTSTART:20180311T090000
END:DAYLIGHT
BEGIN:STANDARD
TZOFFSETFROM:-0600
TZOFFSETTO:-0700
TZNAME:MST
DTSTART:20181104T080000
END:STANDARD
BEGIN:DAYLIGHT
TZOFFSETFROM:-0700
TZOFFSETTO:-0600
TZNAME:MDT
DTSTART:20190310T090000
END:DAYLIGHT
BEGIN:STANDARD
TZOFFSETFROM:-0600
TZOFFSETTO:-0700
TZNAME:MST
DTSTART:20191103T080000
END:STANDARD
BEGIN:DAYLIGHT
TZOFFSETFROM:-0700
TZOFFSETTO:-0600
TZNAME:MDT
DTSTART:20200308T090000
END:DAYLIGHT
BEGIN:STANDARD
TZOFFSETFROM:-0600
TZOFFSETTO:-0700
TZNAME:MST
DTSTART:20201101T080000
END:STANDARD
BEGIN:DAYLIGHT
TZOFFSETFROM:-0700
TZOFFSETTO:-0600
TZNAME:MDT
DTSTART:20210314T090000
END:DAYLIGHT
BEGIN:STANDARD
TZOFFSETFROM:-0600
TZOFFSETTO:-0700
TZNAME:MST
DTSTART:20211107T080000
END:STANDARD
BEGIN:DAYLIGHT
TZOFFSETFROM:-0700
TZOFFSETTO:-0600
TZNAME:MDT
DTSTART:20220313T090000
END:DAYLIGHT
BEGIN:STANDARD
TZOFFSETFROM:-0600
TZOFFSETTO:-0700
TZNAME:MST
DTSTART:20221106T080000
END:STANDARD
BEGIN:DAYLIGHT
TZOFFSETFROM:-0700
TZOFFSETTO:-0600
TZNAME:MDT
DTSTART:20230312T090000
END:DAYLIGHT
BEGIN:STANDARD
TZOFFSETFROM:-0600
TZOFFSETTO:-0700
TZNAME:MST
DTSTART:20231105T080000
END:STANDARD
BEGIN:DAYLIGHT
TZOFFSETFROM:-0700
TZOFFSETTO:-0600
TZNAME:MDT
DTSTART:20240310T090000
END:DAYLIGHT
BEGIN:STANDARD
TZOFFSETFROM:-0600
TZOFFSETTO:-0700
TZNAME:MST
DTSTART:20241103T080000
END:STANDARD
BEGIN:DAYLIGHT
TZOFFSETFROM:-0700
TZOFFSETTO:-0600
TZNAME:MDT
DTSTART:20250309T090000
END:DAYLIGHT
BEGIN:STANDARD
TZOFFSETFROM:-0600
TZOFFSETTO:-0700
TZNAME:MST
DTSTART:20251102T080000
END:STANDARD
END:VTIMEZONE
BEGIN:VEVENT
DTSTART;TZID=America/Denver:20250506T190000
DTEND;TZID=America/Denver:20250506T201500
DTSTAMP:20260425T190434
CREATED:20250428T231510Z
LAST-MODIFIED:20250428T231511Z
UID:4887-1746558000-1746562500@www.abqdeltas.org
SUMMARY:New Mexico Legislative Wrap-Up
DESCRIPTION:
URL:https://www.abqdeltas.org/eventcalendar/new-mexico-legislative-wrap-up/
LOCATION:Zoom
CATEGORIES:Albuquerque Alumnae,Delta Sigma Theta Sorority, Inc.,Political Awareness & Involvement,Public,Southwest Region
END:VEVENT
BEGIN:VEVENT
DTSTART;TZID=America/Denver:20181029T180000
DTEND;TZID=America/Denver:20181029T190000
DTSTAMP:20260425T190434
CREATED:20181016T012551Z
LAST-MODIFIED:20181015T192937Z
UID:3519-1540836000-1540839600@www.abqdeltas.org
SUMMARY:Politics 101
DESCRIPTION:Discuss topics: Government Overview\, Elections\, Electoral College
URL:https://www.abqdeltas.org/eventcalendar/politics-101-2/
LOCATION:New Covenant Worship Center\, 4504 Ace Way SE\, Rio Rancho\, NM\, 87124\, United States
CATEGORIES:Albuquerque Alumnae,Political Awareness & Involvement
ATTACH;FMTTYPE=image/png:https://www.abqdeltas.org/wp-content/uploads/2018/10/Politics101-e1539241983929.png
END:VEVENT
BEGIN:VEVENT
DTSTART;TZID=America/Denver:20181023T180000
DTEND;TZID=America/Denver:20181023T190000
DTSTAMP:20260425T190434
CREATED:20181011T070820Z
LAST-MODIFIED:20181011T071346Z
UID:3514-1540317600-1540321200@www.abqdeltas.org
SUMMARY:Politics 101
DESCRIPTION:Discuss topics: Government Overview\, Elections\, Electoral College
URL:https://www.abqdeltas.org/eventcalendar/politics-101/
LOCATION:Erna Fergusson Public Library\, 3700 San Mateo Blvd NE\, Albuquerque\, NM\, 87110\, United States
CATEGORIES:Albuquerque Alumnae,Political Awareness & Involvement
ATTACH;FMTTYPE=image/png:https://www.abqdeltas.org/wp-content/uploads/2018/10/Politics101-e1539241983929.png
END:VEVENT
BEGIN:VEVENT
DTSTART;TZID=America/Denver:20181020T100000
DTEND;TZID=America/Denver:20181020T100000
DTSTAMP:20260425T190434
CREATED:20181018T002916Z
LAST-MODIFIED:20181018T003626Z
UID:3523-1540029600-1540029600@www.abqdeltas.org
SUMMARY:Early Vote with Us!
DESCRIPTION:Join us as we EARLY VOTE in Bernalillo County and Sandoval County. \nAt 10am on Saturday October 20th\, the first day of early voting\, we will be in these two voting locations.  You must vote in your county. \nBernalillo County \nClerk’s Annex – 1500 Lomas A NW\, Albuquerque\, NM 87104 (click to see google map) \nSandoval County \nRio Rancho Public Library – 755 Loma Colorado Dr. NE\, Rio Rancho NM 87124 (click to see google map) \nIf you cannot join us on Saturday\, find your Early Voting locations below. Early voting ends on November 3rd. \n\nBernalillo County – https://www.bernco.gov/clerk/early-voting-locations.aspx\nSandoval County – http://www.sandovalcountynm.gov/wp-content/uploads/2018/07/2018_GeneralAbsenteeEarlyLocations.pdf
URL:https://www.abqdeltas.org/eventcalendar/early-vote-with-us/
CATEGORIES:Albuquerque Alumnae,Political Awareness & Involvement
ATTACH;FMTTYPE=image/jpeg:https://www.abqdeltas.org/wp-content/uploads/2018/10/voteearly-earlyvote.jpg
END:VEVENT
BEGIN:VEVENT
DTSTART;TZID=America/Denver:20180914T180000
DTEND;TZID=America/Denver:20180914T200000
DTSTAMP:20260425T190434
CREATED:20180903T224425Z
LAST-MODIFIED:20180903T224502Z
UID:2751-1536948000-1536955200@www.abqdeltas.org
SUMMARY:2018 Gubernatorial Forum
DESCRIPTION:See the candidates for Governor of New Mexico answer questions from the public.
URL:https://www.abqdeltas.org/eventcalendar/2018-gubernatorial-forum/
LOCATION:Sheraton Albuquerque Uptown\, 2600 Louisiana Blvd NE\, Albuquerque\, NM\, 87110\, United States
CATEGORIES:Albuquerque Alumnae,Political Awareness & Involvement
ATTACH;FMTTYPE=image/jpeg:https://www.abqdeltas.org/wp-content/uploads/2018/09/2018-Forum-flyer.jpg
END:VEVENT
END:VCALENDAR